BEGIN:VCALENDAR
VERSION:2.0
PRODID:Events Booking
BEGIN:VEVENT
UID:69e5927048924
SUMMARY:Stadtgeomantie und Rutenkunst - Die geheimen Strukturen unserer St
 ädte
DESCRIPTION:Das Seminarhaus ist ausgebucht. Es gibt noch Zimmer im fußläu
 fig entfernten Gasthaus.
 Dieses Seminar vermittelt Erscheinung und Wirku
 ngsweise von bekannten geologischen und energetischen Raumstrukturen\, die
  schon vor Urzeiten\, z.B. von den Römern\, mit in jegliche Stadplanung e
 inbezogen wurden. Später von christlichen Sakralbauten genutzt und neu au
 sgeformt\, hat sich so ein Netzwerk von unsichtbaren Strukturen erhalten\,
  welche heute noch wirken.
LOCATION:Eppishofer Straße\, Altenmünster\, 86450 Bayern\, Deutschland
DTSTART:20260716T160000Z
DTEND:20260719T140000Z
DTSTAMP:20241008T115103Z
ORGANIZER;CN=Fortuna Mundi:MAILTO:office@fortunamundi.de
GEO:48.465365;10.593888
X-APPLE-STRUCTURED-LOCATION;VALUE=URI;X-ADDRESS=Eppishofer Straße\, Altenm
 ünster\, 86450 Bayern\, Deutschland;X-APPLE-RADIUS=72;X-TITLE=Maria Ward 
 Haus\, Altenmünster (Raum Augsburg):48.465365;10.593888
END:VEVENT
END:VCALENDAR