BEGIN:VCALENDAR
VERSION:2.0
PRODID:Events Booking
BEGIN:VEVENT
UID:69e5be10e7200
SUMMARY:Schriftliche\, mündliche & praktische Prüfung Geomantie-Ausbildun
 g 2024
DESCRIPTION:Prüfungswochenende in Bad Hersfeld. Nur für TeilnehmerInnen d
 er Geomantie-Ausbildung 2024.
LOCATION:Am Kurpark\, Bad Hersfeld\, 36251 Hessen\, Deutschland
DTSTART:20260307T100000Z
DTEND:20260308T130000Z
DTSTAMP:20260106T175550Z
ORGANIZER;CN=Fortuna Mundi:MAILTO:office@fortunamundi.de
GEO:50.861008;9.700175
X-APPLE-STRUCTURED-LOCATION;VALUE=URI;X-ADDRESS=Am Kurpark\, Bad Hersfeld\,
  36251 Hessen\, Deutschland;X-APPLE-RADIUS=72;X-TITLE=Parkhotel Green Gard
 en\, Bad Hersfeld:50.861008;9.700175
END:VEVENT
END:VCALENDAR