BEGIN:VCALENDAR
VERSION:2.0
PRODID:Events Booking
BEGIN:VEVENT
UID:69e5d53c5784a
SUMMARY:Kraftorte Europas - Odilienberg\, Hoher Meißner\, Chartres
DESCRIPTION:Drei Kraftortreisen als vergünstigtes Gesamtpaket
 Europa ist
  durchzogen von Orten außergewöhnlicher Dichte\, Tiefe und Wirkkraft. Or
 te\, an denen Landschaft\, Mythos\, Baukunst und menschliche Bewusstseinsg
 eschichte zu einem lebendigen Erfahrungsraum verschmelzen.Diese Seminarrei
 he verbindet drei der bedeutendsten Kraftorte Mitteleuropas zu einer zusam
 menhängenden Wahrnehmungsreise.
LOCATION:Ottrott\, 67530 Grand Est\, Frankreich
DTSTART:20270507T160000Z
DTEND:20270828T120000Z
DTSTAMP:20260105T151826Z
ORGANIZER;CN=Fortuna Mundi:MAILTO:office@fortunamundi.de
GEO:48.437458;7.404491
X-APPLE-STRUCTURED-LOCATION;VALUE=URI;X-ADDRESS=Ottrott\, 67530 Grand Est\,
  Frankreich;X-APPLE-RADIUS=72;X-TITLE=Klosterhotel Mont Sainte-Odile\, Vog
 esen/Elsass:48.437458;7.404491
END:VEVENT
END:VCALENDAR