BEGIN:VCALENDAR
VERSION:2.0
PRODID:Events Booking
BEGIN:VEVENT
UID:69e5c3ae32aef
SUMMARY:Erdenbewusstsein – Der Hohe Meißner und die Erdgöttin
DESCRIPTION:Wolltest Du schon immer lernen\, wie Du die eigene Heimat mit i
 hren besonderen Orten für Dich erschließen kannst? Oder erleben\, wie ma
 n die Kraftorte einer Landschaft für sich „öffnet“ und mit ihnen arb
 eiten kann? Dann ist dieses Seminar der richtige Einstieg für Dich!&nbsp\
 ;
 Auf der Basis der Interpretation von Landschaftsform\, geomantischer K
 artenrecherche sowie den örtlichen Sagen und Legenden erkunden wir die ei
 nzigartige Region rund um den heiligen Berg Hoher Meißner.
LOCATION:Klosterfreiheit\, Meißner\, 37290 Hessen\, Deutschland
DTSTART:20270616T160000Z
DTEND:20270620T140000Z
DTSTAMP:20251014T121509Z
ORGANIZER;CN=Fortuna Mundi:MAILTO:office@fortunamundi.de
GEO:51.193455;9.90288
X-APPLE-STRUCTURED-LOCATION;VALUE=URI;X-ADDRESS=Klosterfreiheit\, Meißner\
 , 37290 Hessen\, Deutschland;X-APPLE-RADIUS=72;X-TITLE=Kloster Germerode\,
  Hoher Meißner:51.193455;9.90288
END:VEVENT
END:VCALENDAR