BEGIN:VCALENDAR
VERSION:2.0
PRODID:Events Booking
BEGIN:VEVENT
UID:69e5be6e4293e
SUMMARY:Die Kathedrale von Chartres - Ort der Weltenseele
DESCRIPTION:Chartres gilt heute als eines der spirituellen Zentren der Welt
 \, als Wiege der europäischen Neuzeit.&nbsp\;Die Templer schufen hier das
  Meisterwerk ihrer Zeit als Abbild des Kosmos auf der Erde\, als Ausdruck 
 des Erwachens einer neuen Geistesepoche\, als ewige Trägerin des universe
 llen Bauwissens.
 Wir finden hier die großen Spuren des „Weiblichen Ch
 ristentums“. Die Allverbundenheit mit der Großen Mutter in druidischer 
 Zeit\, eingebunden in den Bezug zu den Sternen und spiritueller Mythologie
 \, fand hier seine direkte Fortsetzung - in der Schau der Weltenseele wie 
 im christlichen Bauwissen.
LOCATION:Chartres\, 28000 Zentrum\, Frankreich
DTSTART:20270823T170000Z
DTEND:20270828T120000Z
DTSTAMP:20250925T141655Z
ORGANIZER;CN=Fortuna Mundi:MAILTO:office@fortunamundi.de
GEO:48.448123;1.489011
X-APPLE-STRUCTURED-LOCATION;VALUE=URI;X-ADDRESS=Chartres\, 28000 Zentrum\, 
 Frankreich;X-APPLE-RADIUS=72;X-TITLE=Hôtellerie Saint Yves\, Chartres:48.
 448123;1.489011
END:VEVENT
END:VCALENDAR