BEGIN:VCALENDAR
VERSION:2.0
PRODID:Events Booking
BEGIN:VEVENT
UID:69e5d5852a906
SUMMARY:Die geomantische Wohnraumoptimierung (Fachausbildung in 4 Modulen)
DESCRIPTION:Geomantie ist die uralte Wissenschaft von Raum und Ort\; Raumen
 ergetik die moderne Lehre der wirkenden Atmosphären. Entwickelt aus histo
 rischen Standortlehren und Architekturpsychologie\, sind beide heute Funda
 ment der geomantischen Raumgestaltung. Sie bieten das Fachwissen für alle
  Formen lebendiger Lebensraumgestaltung und sind das Instrument\, Stimmigk
 eit und angemessene Vitalitätsnivaus für alle Lebensanforderungen zu sch
 affen.
 Doch diese Fachausbildung bietet neben geomantischen Grundlagen u
 nd raumenergetischer Praxis auch eine Vertiefung durch die einst geheime e
 uropäische Ätherlehre und zeigt\, wie sie ins heutige Wohnen und Bauen 
 übersetzt werden kann. Für die konkrete Kundenberatung bietet dann das R
 aumpsychogramm ein Werkzeug\, um seelischen Themen der Bewohner bewusst zu
  machen\, Blockaden zu lösen\, zu stützen und zu begleiten. In&nbsp\;Hau
 s mit Seele wird das spirituelle und traditionelle Bauen thematisiert\, um
  Häusern heute wieder sinnstiftende Identität zu verleihen.
 &nbsp\;
DTSTART:20260618T160000Z
DTEND:20261206T140000Z
DTSTAMP:20250930T102346Z
ORGANIZER;CN=Fortuna Mundi:MAILTO:office@fortunamundi.de
END:VEVENT
END:VCALENDAR