BEGIN:VCALENDAR
VERSION:2.0
PRODID:Events Booking
BEGIN:VEVENT
UID:69e5c07c0de00
SUMMARY:Geomantie-Ausbildung Block 3 - Diagnostik und Methodenkoffer
DESCRIPTION:Block 3 beinhaltet drei Module der Ausbildung in Integraler Geo
 mantie und richtet den Fokus konsequent auf die diagnostische Kompetenz so
 wie den sicheren Umgang mit einem vielfältigen Methodenspektrum.
 Wahrne
 hmung\, Analyse und Methodenanwendung greifen zunehmend ineinander und bil
 den die Grundlage für verantwortungsvolle Raumdiagnostik und spätere Ges
 taltungs- und Klärungsprozesse.
DTSTART:20270205T160000Z
DTEND:20270404T140000Z
DTSTAMP:20260119T152045Z
ORGANIZER;CN=Fortuna Mundi:MAILTO:office@fortunamundi.de
END:VEVENT
END:VCALENDAR