BEGIN:VCALENDAR
VERSION:2.0
PRODID:Events Booking
BEGIN:VEVENT
UID:69e5c14dcc436
SUMMARY:Geomantie-Ausbildung Block 2 - Vertiefung
DESCRIPTION:Block 2 beinhaltet 5 Module der Ausbildung in Integraler Geoman
 tie und markiert den Übergang von der grundlegenden Wahrnehmungsschulung 
 hin zur bewussten Gestaltung von Lebensräumen als lebendige\, seelisch wi
 rksame Organismen. Hier wird Raum nicht mehr nur gelesen – er wird verst
 anden\, geformt und in Beziehung zum eigenen inneren Erleben gesetzt.
 Mi
 t der Buchung dieses Blockes lernst du die vertiefte Analyse und Umsetzung
  geomantischer Methoden.
DTSTART:20260812T160000Z
DTEND:20261206T140000Z
DTSTAMP:20251212T115705Z
ORGANIZER;CN=Fortuna Mundi:MAILTO:office@fortunamundi.de
END:VEVENT
END:VCALENDAR