BEGIN:VCALENDAR
VERSION:2.0
PRODID:Events Booking
BEGIN:VEVENT
UID:69e5bf3b0f3d4
SUMMARY:Einweihungsort Odilienberg - Erweitere deine Wahrnehmung!
DESCRIPTION:Ausgebucht. Der Kurs findet das nächste Mal 2027 statt. Jetzt 
 schon Interesse? Dann schreibe uns und lass dich auf die Liste setzen.
 E
 s gibt sie noch\, die großen Orte der Kraft\, die sich ihre innenlebende 
 Einzigartigkeit\, ihren Zauber und ihren Einfluss erhalten haben. Der Odil
 ienberg im Elsass ist einer der ganz großen alten Einweihungsorte\, der s
 ich seine Kraft bis heute bewahrt hat und jeden Menschen\, welcher ihn bes
 ucht\, berührt und – wenn man sich auf ihn einlässt – tief veränder
 n kann.
DTSTART:20250510T170000Z
DTEND:20250516T140000Z
DTSTAMP:20240529T144333Z
ORGANIZER;CN=Fortuna Mundi:MAILTO:office@fortunamundi.de
END:VEVENT
END:VCALENDAR