BEGIN:VCALENDAR
VERSION:2.0
PRODID:Events Booking
BEGIN:VEVENT
UID:69e5a9bea6177
SUMMARY:Urbilder der Seele - Entdecke die Kraft der Archetypen
DESCRIPTION:Der Psychologe C. G. Jung hat uns erstmals das Konzept der Arch
 etypen (= UrBilder) geschenkt. Diese Urbilder finden wir in allen Kulturen
  zu allen Zeiten an. In jeweils abgeänderter Form können wir alle schnel
 l einen lebhaften Bezug zu den Archetypen herstellen. Die Archetypen stell
 en Grundmuster der menschlichen Psyche dar: sie nehmen unbewusst Einfluss 
 auf unser Denken und Fühlen. Wie drücken sich die Archetypen in unserem 
 Leben aus? Wie können wir sie bewusst einsetzen und mehr Selbstführung 
 übernehmen? Eine mega-spannende Reise steht an!
LOCATION:Maroldsweisach\, 96126 Bayern\, Deutschland
DTSTART:20241121T160000Z
DTEND:20241124T140000Z
DTSTAMP:20231218T161236Z
ORGANIZER;CN=Fortuna Mundi:MAILTO:office@fortunamundi.de
GEO:50.184918;10.67062
X-APPLE-STRUCTURED-LOCATION;VALUE=URI;X-ADDRESS=Maroldsweisach\, 96126 Baye
 rn\, Deutschland;X-APPLE-RADIUS=72;X-TITLE=Schloss Wasmuthhausen\, Raum Co
 burg:50.184918;10.67062
END:VEVENT
END:VCALENDAR