BEGIN:VCALENDAR
VERSION:2.0
PRODID:Events Booking
BEGIN:VEVENT
UID:69e5a8b1dbe53
SUMMARY:Schnupperkursreihe Geomantie-Ausbildung (Block 1)
DESCRIPTION:3 Module zum Reinschnuppern in die Geomantie-Ausbildung zum ver
 günstigten Paketpreis.
 In einer Geomantie-Ausbildung erleben die Lernen
 den eine intensive Zeit persönlichen Wachstums und tiefer Erfahrungen an 
 besonderen Orten. Diese drei Seminare zum \"reinschnuppern\" geben Orienti
 erung in der Welt der Geomantie und decken gleich mehrere Themengebiete ab
 :
 Orte der Kraft * Wahrnehmungschulung * Raumenergetik - Die Geomantie d
 es Wohn- und Arbeitsraumes * Radiästhesie - Die Kunst des Rutengehens * S
 tadtgeomantie
 Eine geballte Menge an Basiswissen\, welches dir erste Anw
 endungen ermöglicht\, zu einem unschlagbaren Preis!
DTSTART:20260507T160000Z
DTEND:20260719T130000Z
DTSTAMP:20241129T153351Z
ORGANIZER;CN=Fortuna Mundi:MAILTO:office@fortunamundi.de
END:VEVENT
END:VCALENDAR