BEGIN:VCALENDAR
VERSION:2.0
PRODID:Events Booking
BEGIN:VEVENT
UID:69e5d59a04078
SUMMARY:Das Geheimnis der Zyklen – Im Einklang mit Sonne\, Mond und Erde 
 leben
DESCRIPTION:Tauche in die Rhythmen der natürlichen Zyklen ein\, um innere 
 Balance\, Energie und Erfüllung zu finden.
DTSTART:20240221T190000Z
DTEND:20240221T210000Z
DTSTAMP:20240125T132759Z
ORGANIZER;CN=Fortuna Mundi:MAILTO:office@fortunamundi.de
END:VEVENT
BEGIN:VEVENT
UID:69e5d59a04127
SUMMARY:Auftanken im Schlaf - Standortfaktoren\, Erdstrahlen und das Unbewu
 sste
DESCRIPTION:Im Schlaf möchte jeder Mensch entspannen\, träumen und auftan
 ken für den neuen Tag. Gerade heutzutage brauchen wir mehr denn je einen 
 guten Schlaf\, der uns ein konstantes Niveau an persönlicher Kraft\, Resi
 lienz und psychischer Stabilität schenkt. Die Realität: über 60% der Bu
 ndesbürger ab 40 Jahre haben Schlafprobleme. Ein echtes Massenphänomen. 
 Und Elektrobiologen\, Rutengänger oder Matratzenberater geben meist wider
 sprüchliche Empfehlungen und verwirren eher als gezielt Abhilfe zu schaff
 en. Denn nur die Gesamtschau des komplexen Phänomens Schlaf bringt den Er
 folg.
DTSTART:20240613T183000Z
DTEND:20240613T210000Z
DTSTAMP:20240116T112100Z
ORGANIZER;CN=Fortuna Mundi:MAILTO:office@fortunamundi.de
END:VEVENT
BEGIN:VEVENT
UID:69e5d59a04152
SUMMARY:3. Wohn-Dich-Glücklich-Onlinekongress
DESCRIPTION:Der Dritte Wohn-Dich-glücklich-Onlinekongress startet am 11. O
 ktober 2024 - mal wieder kostenfrei! Und Fortuna Mundi ist mit dabei. Care
 n und Ulrike haben wieder ein spannendes und abwechslungsreiches Programm 
 zusammengestellt.
 Entdecke mit uns und anderen Expertinnen und Experten\
 , wie eng die Entwicklung unseres Potenzials mit unserer direkten Umgebung
  zusammenhängt und wie Du über den Raum positive Veränderungen in Deine
 m Leben erreichen kannst. Das hat etwas Magisches. Lass‘ es Dir nicht en
 tgehen.
 25 erfahrene Expertinnen und Experten teilen ihr Wissen\, ihre E
 rfahrungen und geben wertvolle Tipps\, die Du gleich zu Hause umsetzen kan
 nst.
DTSTART:20241011T180000Z
DTEND:20241018T200000Z
DTSTAMP:20240927T101954Z
ORGANIZER;CN=Fortuna Mundi:MAILTO:office@fortunamundi.de
END:VEVENT
BEGIN:VEVENT
UID:69e5d59a04175
SUMMARY:Der Geheimnistalk: Naturgeister und Elementarwesen
DESCRIPTION:In dieser kostenfreien Live-Sendung auf YouTube widmen wir uns 
 der faszinierenden Welt der Natur- und Elementarwesen und beleuchten sie a
 us geomantischer und mythologischer Sicht. Mythen-Experte Christopher Weid
 ner und Geomantie-Experte Pascal Zielke\, gehen darüber ins Gespräch\, w
 ie die alten Geschichten\, Sagen und Mythen über Naturgeister mit den Pri
 nzipien der Landschaftsgeomantie verknüpft sind.
DTSTART:20241016T203000Z
DTEND:20241016T213000Z
DTSTAMP:20240715T120844Z
ORGANIZER;CN=Fortuna Mundi:MAILTO:office@fortunamundi.de
END:VEVENT
BEGIN:VEVENT
UID:69e5d59a04196
SUMMARY:Der Geheimnistalk: Naturgeister und Elementarwesen Teil 2
DESCRIPTION:In dieser kostenfreien Live-Sendung auf YouTube widmen wir uns 
 der faszinierenden Welt der Natur- und Elementarwesen und beleuchten sie a
 us geomantischer und mythologischer Sicht. Mythen-Experte Christopher Weid
 ner und Geomantie-Experte Pascal Zielke\, gehen darüber ins Gespräch\, w
 ie die alten Geschichten\, Sagen und Mythen über Naturgeister mit den Pri
 nzipien der Landschaftsgeomantie verknüpft sind.
DTSTART:20241112T213000Z
DTEND:20241112T223000Z
DTSTAMP:20240715T120844Z
ORGANIZER;CN=Fortuna Mundi:MAILTO:office@fortunamundi.de
END:VEVENT
BEGIN:VEVENT
UID:69e5d59a041b1
SUMMARY:Die Energie der Steine - Geomantische Gesteinskunde
DESCRIPTION:Der Stein ist der Repräsentant der Erde. Scheinbar unbeweglich
 \, mit hoher Festigkeit und Schwere besitzt er eine uralte Faszination: Er
  bewegt uns.
 Denn überall um uns und - vor allem - unter uns ist Gestei
 n. In welcher Landschaft wir leben\, prägt uns. Das Gestein trägt neben 
 einer energetischen Ebene auch eine geistige in sich: sie formt unsere Men
 talität mit aus.
DTSTART:20241114T190000Z
DTEND:20241114T210000Z
DTSTAMP:20240701T164229Z
ORGANIZER;CN=Fortuna Mundi:MAILTO:office@fortunamundi.de
END:VEVENT
BEGIN:VEVENT
UID:69e5d59a041d2
SUMMARY:4. Wohn-Dich-Glücklich-Onlinekongress
DESCRIPTION:Der&nbsp\;vierte&nbsp\;Wohn-Dich-glücklich-Onlinekongress&nbsp
 \;startet am 28. Oktober 2025&nbsp\;– und du kannst&nbsp\;kostenlos&nbsp
 \;(0 Euro)&nbsp\;dabei sein!
 Acht Tage lang erwarten dich&nbsp\;spannend
 e Impulse\, praktische Tipps und inspirierende&nbsp\;Expertinnen und Exper
 ten&nbsp\;zu den ThemenFeng Shui –Geomantie –Kraftorte –Zeitqualitä
 ten – und vieles mehr.
DTSTART:20251028T180000Z
DTEND:20251104T200000Z
DTSTAMP:20251010T212654Z
ORGANIZER;CN=Fortuna Mundi:MAILTO:office@fortunamundi.de
END:VEVENT
END:VCALENDAR