BEGIN:VCALENDAR
VERSION:2.0
PRODID:Events Booking
BEGIN:VEVENT
UID:69e592650c4aa
SUMMARY:Feng Shui Kompaktausbildung in 4 Modulen
DESCRIPTION:Jedes Haus besitzt eine eigene Qualität – und beeinflusst di
 e Menschen\, die darin wohnen und arbeiten. Der Wunsch nach gesunden\, sti
 mmigen Lebensräumen wächst stetig. Immer häufiger werden Berater gefrag
 t\, die Privatwohnungen ebenso gestalten können wie Gärten\, Schulen\, K
 indergärten\, Unternehmen oder Geschäftsräume.
 Feng Shui verbindet da
 bei klare Methodik mit persönlicher Wahrnehmung. Es richtet sich an Mensc
 hen\, die eine Balance aus Struktur und individueller Arbeit suchen.&nbsp\
 ;Ziel der Ausbildung ist es\, kompetente BeraterInnen hervorzubringen: Men
 schen\, die Freude an ihrer Arbeit haben\, kreative Wege beschreiten und i
 hre Intuition in jede Beratungssituation einbringen.
LOCATION:Forst-Kasten-Allee\, München\, 81475 Bayern\, Deutschland
DTSTART:20270205T160000Z
DTEND:20280116T140000Z
DTSTAMP:20250926T073246Z
ORGANIZER;CN=Fortuna Mundi:MAILTO:office@fortunamundi.de
GEO:48.094319;11.485657
X-APPLE-STRUCTURED-LOCATION;VALUE=URI;X-ADDRESS=Forst-Kasten-Allee\, Münch
 en\, 81475 Bayern\, Deutschland;X-APPLE-RADIUS=72;X-TITLE=Schloss Fürsten
 ried\, München:48.094319;11.485657
END:VEVENT
END:VCALENDAR