BEGIN:VCALENDAR
VERSION:2.0
PRODID:Events Booking
BEGIN:VEVENT
UID:69e5be10db445
SUMMARY:Ganzheitliches Feng Shui - Formen- und Kompassschule
DESCRIPTION:Feng Shui Modul 2
 Dieses Seminar vertieft die Grundlagen des 
 Feng Shui und erweitert das bisherige Verständnis um zentrale Analyse- un
 d Deutungswerkzeuge der klassischen Lehre.&nbsp\;
 Du lernst u.a.
 
 di
 e Wirkung von Umgebung und Raumformen differenziert wahrzunehmen
 Richtun
 gsqualitäten und energetische Ausrichtungen von Häusern zu bestimmen
 d
 en Energiefluss innerhalb von Wohnräumen zu erkennen und zu nutzen
 Räu
 me gezielt auf persönliche\, familiäre oder berufliche Themen abzustimme
 n
 
LOCATION:Forst-Kasten-Allee\, München\, 81475 Bayern\, Deutschland
DTSTART:20270402T160000Z
DTEND:20270404T140000Z
DTSTAMP:20260117T142824Z
ORGANIZER;CN=Fortuna Mundi:MAILTO:office@fortunamundi.de
GEO:48.094319;11.485657
X-APPLE-STRUCTURED-LOCATION;VALUE=URI;X-ADDRESS=Forst-Kasten-Allee\, Münch
 en\, 81475 Bayern\, Deutschland;X-APPLE-RADIUS=72;X-TITLE=Schloss Fürsten
 ried\, München:48.094319;11.485657
END:VEVENT
END:VCALENDAR