BEGIN:VCALENDAR
VERSION:2.0
PRODID:Events Booking
BEGIN:VEVENT
UID:69e5d57b76696
SUMMARY:Die Raumenergetik – Wohnen und Arbeiten in voller Kraft
DESCRIPTION:Möglicher Quereinstieg in die Geomantie-Ausbildung 2026
 Lebe
 nskraft gehört zu den kostbarsten Gütern unserer Zeit. Immer mehr Mensch
 en benötigen Lebensräume mit nährender Atmosphäre und starker Vitalit
 ät.&nbsp\;Die Raumenergetik ist die moderne Lehre der Wirkung von Lebensk
 raft auf den Menschen und der gezielten Schaffung räumlicher Atmosphären
 . Sie beschreibt differenziert und nachvollziehbar die Gesetze der Lebensk
 raft.
LOCATION:Zur Uhlandshöhe\, Stuttgart\, 70188 Baden-Württemberg\, Deutschl
 and
DTSTART:20260618T160000Z
DTEND:20260621T120000Z
DTSTAMP:20231116T090647Z
ORGANIZER;CN=Fortuna Mundi:MAILTO:office@fortunamundi.de
GEO:48.783296;9.194624
X-APPLE-STRUCTURED-LOCATION;VALUE=URI;X-ADDRESS=Zur Uhlandshöhe\, Stuttgar
 t\, 70188 Baden-Württemberg\, Deutschland;X-APPLE-RADIUS=72;X-TITLE=Rudol
 f Steiner Haus\, Stuttgart:48.783296;9.194624
END:VEVENT
END:VCALENDAR