BEGIN:VCALENDAR
VERSION:2.0
PRODID:Events Booking
BEGIN:VEVENT
UID:69e5bec3317ba
SUMMARY:Das Feld der Wahrnehmung  – Hellsehen und Feinfühlen an Orten de
 r Kraft
DESCRIPTION:Ausgebucht! Nur noch Plätze für neue AusbildungsteilnehmerInn
 en vorhanden.
 &nbsp\;
 Schnupperseminar \"Geomantie &amp\; Wahrnehmung\
 ". Start der Geomantie-Ausbildung 2026 - 2028
 Unsere Wahrnehmung bestimm
 t unsere Wirklichkeit. Wir sind\, was wir erkennen. Daher ist die Öffnung
  der individuellen Wahrnehmung ein großes Potenzial Ihrer Persönlichkeit
 sentwicklung und&nbsp\;der&nbsp\;„Schlüssel“ zum Verständnis lebendi
 ger Natur. Dieses Seminar führt deshalb grundlegend ein in die Funktionen
  und Potenziale unserer Sinne.&nbsp\;
LOCATION:Badgasse\, Kirchheim am Ries\, 73467 Baden-Württemberg\, Deutschl
 and
DTSTART:20260507T160000Z
DTEND:20260510T130000Z
DTSTAMP:20231115T225132Z
ORGANIZER;CN=Fortuna Mundi:MAILTO:office@fortunamundi.de
GEO:48.879301;10.395985
X-APPLE-STRUCTURED-LOCATION;VALUE=URI;X-ADDRESS=Badgasse\, Kirchheim am Rie
 s\, 73467 Baden-Württemberg\, Deutschland;X-APPLE-RADIUS=72;X-TITLE=Landh
 otel Osswald\, Kirchheim am Ries:48.879301;10.395985
END:VEVENT
END:VCALENDAR