BEGIN:VCALENDAR
VERSION:2.0
PRODID:Events Booking
BEGIN:VEVENT
UID:69e5a90f46414
SUMMARY:Initiationswoche Dartmoor - Erdspiritualität und Kosmisches Bewuss
 tsein
DESCRIPTION:Ausgebucht. Es existiert eine Warteliste.
 Das Dartmoor - Eine
  der letzten echten Wildnisse: karg\, hügelreich und ewig weit. Voller Sa
 gen\, Mythen und unsichtbarer Welten. Die meisten Regionen frei von jeglic
 her Besiedelung – Steine\, Wiesen und wild lebende Pferde prägen den La
 ndstrich mehr wie der Mensch. Dieses Gebiet Südenglands zählt zu den bee
 indruckendsten und geheimnisvollsten Landschaften Europas.
 Faszinierende
 n Relikte aus megalithischer Zeit erheben das Dartmoor zu einen gigantisch
 en Kultraum: Steinkreise\, Steinreihen\, Kultstätten und prähistorische 
 Straßensysteme. Viele dieser Anlagen stammen aus der Bronzezeit\, die äl
 testen wurden bereits um 3.400 v. Chr. errichtet – lange vor dem berühm
 ten Stonehenge. Eine uralte Kultur hinterließ zentrale Menhire\, Doppelst
 einkreise und geheimnisvolle Wallformationen\, die noch heute von einer ti
 efen Verbindung zwischen Mensch\, Erde und Kosmos zeugen.
LOCATION:Teignbridge\, England\, Vereinigtes Königreich
DTSTART:20260523T180000Z
DTEND:20260530T200000Z
DTSTAMP:20241210T135418Z
ORGANIZER;CN=Fortuna Mundi:MAILTO:office@fortunamundi.de
GEO:50.576819;-3.812579
X-APPLE-STRUCTURED-LOCATION;VALUE=URI;X-ADDRESS=Teignbridge\, England\, Ver
 einigtes Königreich;X-APPLE-RADIUS=72;X-TITLE=Karuna Dartmoor Seminarhaus
 :50.576819;-3.812579
END:VEVENT
END:VCALENDAR